BEGIN:VCALENDAR
VERSION:2.0
PRODID:-//NABIP Florida - ECPv6.15.20//NONSGML v1.0//EN
CALSCALE:GREGORIAN
METHOD:PUBLISH
X-WR-CALNAME:NABIP Florida
X-ORIGINAL-URL:https://nabipfl.org
X-WR-CALDESC:Events for NABIP Florida
REFRESH-INTERVAL;VALUE=DURATION:PT1H
X-Robots-Tag:noindex
X-PUBLISHED-TTL:PT1H
BEGIN:VTIMEZONE
TZID:UTC
BEGIN:STANDARD
TZOFFSETFROM:+0000
TZOFFSETTO:+0000
TZNAME:UTC
DTSTART:20250101T000000
END:STANDARD
END:VTIMEZONE
BEGIN:VEVENT
DTSTART;VALUE=DATE:20260627
DTEND;VALUE=DATE:20260701
DTSTAMP:20260423T052210
CREATED:20251209T220747Z
LAST-MODIFIED:20251209T220747Z
UID:2412-1782518400-1782863999@nabipfl.org
SUMMARY:2026 NABIP Annual Convention
DESCRIPTION:NABIP Annual Convention \nJune 27-30\, 2026 \nHarrah’s Resort \nAtlantic City\, NJ \nhttps://nabip.org/events/annual-convention
URL:https://nabipfl.org/events/2026-nabip-annual-convention/
END:VEVENT
BEGIN:VEVENT
DTSTART;VALUE=DATE:20260726
DTEND;VALUE=DATE:20260729
DTSTAMP:20260423T052210
CREATED:20251209T220854Z
LAST-MODIFIED:20260217T200235Z
UID:2415-1785024000-1785283199@nabipfl.org
SUMMARY:2026 NABIP Florida Benefits and Medicare Symposium
DESCRIPTION:NABIP Florida Benefits and Medicare Symposium \nJuly 26-28\, 2026 \nHyatt Regency Grand Cypress \nOne Grand Cypress Blvd\, Orlando\, FL 32836 \nClick Here for More Information
URL:https://nabipfl.org/events/2026-nabip-florida-benefits-and-medicare-symposium/
CATEGORIES:Symposium
END:VEVENT
END:VCALENDAR