BEGIN:VCALENDAR
VERSION:2.0
PRODID:-//NABIP Florida - ECPv6.15.20//NONSGML v1.0//EN
CALSCALE:GREGORIAN
METHOD:PUBLISH
X-ORIGINAL-URL:https://nabipfl.org
X-WR-CALDESC:Events for NABIP Florida
REFRESH-INTERVAL;VALUE=DURATION:PT1H
X-Robots-Tag:noindex
X-PUBLISHED-TTL:PT1H
BEGIN:VTIMEZONE
TZID:UTC
BEGIN:STANDARD
TZOFFSETFROM:+0000
TZOFFSETTO:+0000
TZNAME:UTC
DTSTART:20240101T000000
END:STANDARD
END:VTIMEZONE
BEGIN:VEVENT
DTSTART;TZID=UTC:20250727T170000
DTEND;TZID=UTC:20250729T160000
DTSTAMP:20260425T122511
CREATED:20250214T140441Z
LAST-MODIFIED:20250422T133239Z
UID:2193-1753635600-1753804800@nabipfl.org
SUMMARY:2025 Benefits And Medicare Symposium
DESCRIPTION:
URL:https://nabipfl.org/events/2025-benefits-and-medicare-symposium/
LOCATION:Hyatt Regency Grand Cypress\, 1 Grand Cypress Blvd\, Orlando\, FL\, 32836\, United States
END:VEVENT
BEGIN:VEVENT
DTSTART;TZID=UTC:20250919T113000
DTEND;TZID=UTC:20250919T133000
DTSTAMP:20260425T122511
CREATED:20250801T185133Z
LAST-MODIFIED:20250801T185133Z
UID:2347-1758281400-1758288600@nabipfl.org
SUMMARY:
DESCRIPTION:NABIP-SWFL Chapter Membership Meeting \n\n\nSeptember 19\, 2025 \n\n\nFeaturing NABIP National President Susan Rider \n\n\nLegislative Update and “Racing Ahead” with NABIP \n\n\nNetworking begins 11:30am \n\n\nMeeting 12:00pm \n\n\nHilton Garden Inn Fort Myers Airport / FGCU \n\n\n16410 Corporate Commerce Way\, Fort Myers\, FL 33913 \n\n\nFor more information contact Wayne Sakamoto at wayne@healthii.com.
URL:https://nabipfl.org/events/2347/
LOCATION:Hilton Garden Inn Fort Myers Airport / FGCU\, 16410 Corporate Commerce Way\, Fort Myers\, FL\, 33913\, United States
END:VEVENT
BEGIN:VEVENT
DTSTART;VALUE=DATE:20260126
DTEND;VALUE=DATE:20260128
DTSTAMP:20260425T122511
CREATED:20251120T163436Z
LAST-MODIFIED:20251120T163436Z
UID:2399-1769385600-1769558399@nabipfl.org
SUMMARY:Day on the Hill 2026
DESCRIPTION:January 26-27\, 2026 \n\n\nResidence Inn Tallahassee Universities at the Capitol \n\n\n600 W Gaines St\, Tallahassee\, FL 32304 \n\n\n\n\n\n\n\n\n\n\nRegister at 2026 NABIP Florida Day on the Hill \n\n\nBook your room at: \n\n\n\n\n\n\n\n\n\nReservation-Link \n\n\n\n\n\n\n\n 
URL:https://nabipfl.org/events/day-on-the-hill-2026/
LOCATION:Residence Inn Tallahassee Universities at the Capitol\, 600 W Gaines St\, Tallahassee\, FL\, 32304\, United States
CATEGORIES:Day on the Hill
END:VEVENT
BEGIN:VEVENT
DTSTART;VALUE=DATE:20260222
DTEND;VALUE=DATE:20260225
DTSTAMP:20260425T122511
CREATED:20251209T220648Z
LAST-MODIFIED:20251209T220648Z
UID:2409-1771718400-1771977599@nabipfl.org
SUMMARY:2026 NABIP Capitol Conference
DESCRIPTION:NABIP Capitol Conference \nFebruary 22-24\, 2026 \nHyatt Regency Washington on Capitol Hill \n400 New Jersey Ave NW\, Washington\, DC 20001 \nhttps://nabip.org/events/capitol-conference
URL:https://nabipfl.org/events/2026-nabip-capitol-conference/
END:VEVENT
BEGIN:VEVENT
DTSTART;VALUE=DATE:20260627
DTEND;VALUE=DATE:20260701
DTSTAMP:20260425T122511
CREATED:20251209T220747Z
LAST-MODIFIED:20251209T220747Z
UID:2412-1782518400-1782863999@nabipfl.org
SUMMARY:2026 NABIP Annual Convention
DESCRIPTION:NABIP Annual Convention \nJune 27-30\, 2026 \nHarrah’s Resort \nAtlantic City\, NJ \nhttps://nabip.org/events/annual-convention
URL:https://nabipfl.org/events/2026-nabip-annual-convention/
END:VEVENT
BEGIN:VEVENT
DTSTART;VALUE=DATE:20260726
DTEND;VALUE=DATE:20260729
DTSTAMP:20260425T122511
CREATED:20251209T220854Z
LAST-MODIFIED:20260217T200235Z
UID:2415-1785024000-1785283199@nabipfl.org
SUMMARY:2026 NABIP Florida Benefits and Medicare Symposium
DESCRIPTION:NABIP Florida Benefits and Medicare Symposium \nJuly 26-28\, 2026 \nHyatt Regency Grand Cypress \nOne Grand Cypress Blvd\, Orlando\, FL 32836 \nClick Here for More Information
URL:https://nabipfl.org/events/2026-nabip-florida-benefits-and-medicare-symposium/
CATEGORIES:Symposium
END:VEVENT
END:VCALENDAR