BEGIN:VCALENDAR
VERSION:2.0
PRODID:-//NABIP Florida - ECPv6.15.20//NONSGML v1.0//EN
CALSCALE:GREGORIAN
METHOD:PUBLISH
X-WR-CALNAME:NABIP Florida
X-ORIGINAL-URL:https://nabipfl.org
X-WR-CALDESC:Events for NABIP Florida
REFRESH-INTERVAL;VALUE=DURATION:PT1H
X-Robots-Tag:noindex
X-PUBLISHED-TTL:PT1H
BEGIN:VTIMEZONE
TZID:UTC
BEGIN:STANDARD
TZOFFSETFROM:+0000
TZOFFSETTO:+0000
TZNAME:UTC
DTSTART:20220101T000000
END:STANDARD
END:VTIMEZONE
BEGIN:VEVENT
DTSTART;TZID=UTC:20230226T080000
DTEND;TZID=UTC:20230301T170000
DTSTAMP:20260425T011540
CREATED:20221219T011454Z
LAST-MODIFIED:20221219T011454Z
UID:1405-1677398400-1677690000@nabipfl.org
SUMMARY:Capitol Conference
DESCRIPTION:Capitol Conference – February 26 -March 1 \nHyatt Regency on Capitol Hill in Washington DC \nhttp://nahu.org/capitol-conference
URL:https://nabipfl.org/events/capitol-conference/
LOCATION:FL
END:VEVENT
BEGIN:VEVENT
DTSTART;TZID=UTC:20230206T080000
DTEND;TZID=UTC:20230207T170000
DTSTAMP:20260425T011540
CREATED:20230102T150316Z
LAST-MODIFIED:20230112T140958Z
UID:1430-1675670400-1675789200@nabipfl.org
SUMMARY:Day on the Hill
DESCRIPTION:Day on the Hill – February 6-7\, 2023 \nat Aloft Tallahassee Downtown\n200 North Monroe\nTallahassee\, FL 32301. \nRegister here. Hotel room rate of $155 per night. Call 850-513-0313 and refer to the Florida Association of Health Underwriters Day on the Hill. \nMake Hotel Reservations Here \nTo view the agenda Click Here.
URL:https://nabipfl.org/events/day-on-the-hill-2/
LOCATION:FL
CATEGORIES:Day on the Hill
END:VEVENT
END:VCALENDAR