BEGIN:VCALENDAR
VERSION:2.0
PRODID:-//NABIP Florida - ECPv6.15.20//NONSGML v1.0//EN
CALSCALE:GREGORIAN
METHOD:PUBLISH
X-ORIGINAL-URL:https://nabipfl.org
X-WR-CALDESC:Events for NABIP Florida
REFRESH-INTERVAL;VALUE=DURATION:PT1H
X-Robots-Tag:noindex
X-PUBLISHED-TTL:PT1H
BEGIN:VTIMEZONE
TZID:UTC
BEGIN:STANDARD
TZOFFSETFROM:+0000
TZOFFSETTO:+0000
TZNAME:UTC
DTSTART:20230101T000000
END:STANDARD
END:VTIMEZONE
BEGIN:VEVENT
DTSTART;TZID=UTC:20240827T130000
DTEND;TZID=UTC:20240829T123000
DTSTAMP:20260426T002101
CREATED:20240206T193527Z
LAST-MODIFIED:20240717T200053Z
UID:1860-1724763600-1724934600@nabipfl.org
SUMMARY:2024 Benefits and Medicare Symposium
DESCRIPTION:VIEW THE SPONSOR BROCHURE HERE \nBOOK WITH HYATT REGENCY ORLANDO HERE \nTO LEARN MORE ABOUT THE 2024 BENEFITS & MEDICARE SYMPOSIUM\, CLICK HERE
URL:https://nabipfl.org/events/2024-benefits-and-medicare-symposium/
LOCATION:Hyatt Regency Orlando\, 9801 International Dr\, Orlando\, FL\, 32819
END:VEVENT
END:VCALENDAR