BEGIN:VCALENDAR
VERSION:2.0
PRODID:-//NABIP Florida - ECPv6.15.20//NONSGML v1.0//EN
CALSCALE:GREGORIAN
METHOD:PUBLISH
X-WR-CALNAME:NABIP Florida
X-ORIGINAL-URL:https://nabipfl.org
X-WR-CALDESC:Events for NABIP Florida
REFRESH-INTERVAL;VALUE=DURATION:PT1H
X-Robots-Tag:noindex
X-PUBLISHED-TTL:PT1H
BEGIN:VTIMEZONE
TZID:UTC
BEGIN:STANDARD
TZOFFSETFROM:+0000
TZOFFSETTO:+0000
TZNAME:UTC
DTSTART:20240101T000000
END:STANDARD
END:VTIMEZONE
BEGIN:VEVENT
DTSTART;VALUE=DATE:20250203
DTEND;VALUE=DATE:20250205
DTSTAMP:20260425T152133
CREATED:20241031T172623Z
LAST-MODIFIED:20241217T175925Z
UID:2114-1738540800-1738713599@nabipfl.org
SUMMARY:Day on the Hill 2025
DESCRIPTION:February 3-4\, 2025 \n826 W Gaines St\, Tallahassee\, FL 32304 \n\n\n\n\n\n\n\n\nRegister at 2025 NABIP Florida Day on the Hill\n\nBook your room at:\n\n\n\n\n\n\n\nNABIP FL Day on The Hill Feb 2025 \nOnce you put in the correct dates of stay\, it will unlock the discounted rate.\nLast Day to book Discounted Rate: 1/15/25
URL:https://nabipfl.org/events/day-on-the-hill-2025/
CATEGORIES:Day on the Hill
END:VEVENT
BEGIN:VEVENT
DTSTART;VALUE=DATE:20250223
DTEND;VALUE=DATE:20250227
DTSTAMP:20260425T152133
CREATED:20241031T172812Z
LAST-MODIFIED:20241031T172812Z
UID:2117-1740268800-1740614399@nabipfl.org
SUMMARY:NABIP Capitol Conference 2025
DESCRIPTION:2/23-2/26/25 \nhttps://nabip.org/events/capitol-conference
URL:https://nabipfl.org/events/nabip-capitol-conference-2025/
END:VEVENT
END:VCALENDAR